BEGIN:VCALENDAR
VERSION:2.0
PRODID:-//Reading Outdoors - ECPv6.15.17//NONSGML v1.0//EN
CALSCALE:GREGORIAN
METHOD:PUBLISH
X-WR-CALNAME:Reading Outdoors
X-ORIGINAL-URL:https://readingoutdoors.com
X-WR-CALDESC:Events for Reading Outdoors
REFRESH-INTERVAL;VALUE=DURATION:PT1H
X-Robots-Tag:noindex
X-PUBLISHED-TTL:PT1H
BEGIN:VTIMEZONE
TZID:America/New_York
BEGIN:DAYLIGHT
TZOFFSETFROM:-0500
TZOFFSETTO:-0400
TZNAME:EDT
DTSTART:20240310T070000
END:DAYLIGHT
BEGIN:STANDARD
TZOFFSETFROM:-0400
TZOFFSETTO:-0500
TZNAME:EST
DTSTART:20241103T060000
END:STANDARD
BEGIN:DAYLIGHT
TZOFFSETFROM:-0500
TZOFFSETTO:-0400
TZNAME:EDT
DTSTART:20250309T070000
END:DAYLIGHT
BEGIN:STANDARD
TZOFFSETFROM:-0400
TZOFFSETTO:-0500
TZNAME:EST
DTSTART:20251102T060000
END:STANDARD
BEGIN:DAYLIGHT
TZOFFSETFROM:-0500
TZOFFSETTO:-0400
TZNAME:EDT
DTSTART:20260308T070000
END:DAYLIGHT
BEGIN:STANDARD
TZOFFSETFROM:-0400
TZOFFSETTO:-0500
TZNAME:EST
DTSTART:20261101T060000
END:STANDARD
BEGIN:DAYLIGHT
TZOFFSETFROM:-0500
TZOFFSETTO:-0400
TZNAME:EDT
DTSTART:20270314T070000
END:DAYLIGHT
BEGIN:STANDARD
TZOFFSETFROM:-0400
TZOFFSETTO:-0500
TZNAME:EST
DTSTART:20271107T060000
END:STANDARD
END:VTIMEZONE
BEGIN:VEVENT
DTSTART;VALUE=DATE:20260326
DTEND;VALUE=DATE:20260330
DTSTAMP:20260421T023944
CREATED:20251230T154947Z
LAST-MODIFIED:20260123T145224Z
UID:10000802-1774483200-1774828799@readingoutdoors.com
SUMMARY:Battle at Burma 2 – 4x4 SXS Endurance Challenge
DESCRIPTION:The challenge continues at Battle at Burma 2\, a high-intensity off-road endurance challenge weekend featuring 4×4 and SXS competitors from across the region. This multi-day event blends endurance competition\, entertainment\, and community for the ultimate test of skill and durability. Battle at Burma 2 delivers nonstop action on demanding terrain\, making it a must-attend endurance challenge for competitors and spectators alike. \nBattle at Burma 2- Event Schedule\nFor registration and additional information\, visit http://www.onenationracing.com/\nBrought to you by NORES\, this event is a must for off-road racing enthusiasts! \nPurchase Tickets – BATTLE AT BURMA Passholders/NonPassholdersPurchase Event Tickets: https://froevents.com/product-category/battle-at-burma/ \n Stay tuned for more details on registration\, schedules\, and event activities!
URL:https://readingoutdoors.com/event/2026-battle-at-burma-endurance
LOCATION:FRO Burma Trails Parking\, St Clair\, PA\, 17965\, United States
CATEGORIES:Community Events,Events,FRO Events
ATTACH;FMTTYPE=image/jpeg:https://readingoutdoors.com/wp-content/uploads/2025/12/FRO-2026-Battle-of-Burma-Flyer.jpg
ORGANIZER;CN="Famous Reading Outdoors":MAILTO:adventures@readingoutdoors.com
GEO:40.7283274;-76.1785403
END:VEVENT
BEGIN:VEVENT
DTSTART;TZID=America/New_York:20251206T090000
DTEND;TZID=America/New_York:20251206T140000
DTSTAMP:20260421T023944
CREATED:20231025T191103Z
LAST-MODIFIED:20251126T154918Z
UID:10000795-1765011600-1765029600@readingoutdoors.com
SUMMARY:4th Annual Brian Rich Jr. Memorial Toy Drive
DESCRIPTION:Purchase Tickets | BRJ Toy Drive FRO | NonPassholdersPurchase Event Tickets Non-Passholders: https://froevents.com/product/brj-toydrive \n📍 Burma Trail System \nJoin us for a special day of off-road riding\, giving back\, and honoring the legacy of Brian Rich Jr. — founder of Famous Reading Outdoors and a visionary for off-road tourism in Schuylkill and Northumberland Counties. Brian cared deeply about people and community\, and his passion continues to inspire riders each year. \nThis event is your opportunity to ride for a cause\, experience the trails\, and help make the holidays brighter for local children. \n🎄 Event Highlights \n\nATV Run\nIntroduction to Phase One of the Ashland/Burma Connector Trail\nUgly Sweater Contest\nBreakfast & Coffee Provided\nStops at Vito’s Coal Fired & Tree Lighting at The Washington Hotel\n\n🎁 Entry \n\nNon-Members: $60 Day Pass + Toy Donation\nMembers: FREE + Toy Donation\n\nProceeds and toy donations benefit Minersville Elementary School. ❤️ \nCome out\, ride for Brian\, and support the children of Minersville Elementary this holiday season. Let’s celebrate the spirit of community\, giving\, and adventure that Brian helped build. \nPurchase Tickets | BRJ Toy Drive FRO | NonPassholdersPurchase Event Tickets Non-Passholders: https://froevents.com/product/brj-toydrive \nDonate Online @ Venmo – FamousReadingOutdoorsIf anyone would like to make a monetary donation\, Venmo @Famousreadingoutdoors and include “Brian Rich Jr. Toy Drive” in the description. Don’t miss this great opportunity to bring your friends and family for a day of fun at Darkwater\, and support a wonderful cause!
URL:https://readingoutdoors.com/event/4th-annual-brian-rich-jr-memorial-toy-drive
LOCATION:FRO Burma Trails Parking\, St Clair\, PA\, 17965\, United States
CATEGORIES:Community Events,FRO Events
ATTACH;FMTTYPE=image/jpeg:https://readingoutdoors.com/wp-content/uploads/2023/10/BrianRichJrToyDrive-12062025-vC.jpg
ORGANIZER;CN="Famous Reading Outdoors":MAILTO:adventures@readingoutdoors.com
GEO:40.7283274;-76.1785403
END:VEVENT
BEGIN:VEVENT
DTSTART;VALUE=DATE:20250822
DTEND;VALUE=DATE:20250825
DTSTAMP:20260421T023944
CREATED:20250814T160513Z
LAST-MODIFIED:20250814T163927Z
UID:10000788-1755820800-1756079999@readingoutdoors.com
SUMMARY:Back Mountain Enduro Riders BMER 2025
DESCRIPTION:“DOWN BY THE BURMA™ BURMA & FAMOUS READING OUTDOORS\nRound 10 – D6 Cross Country Hare Scramble \nBrought to you by D6 Cross Country\, Famous Reading Outdoors and American Motorcycle Association (AMA) – this is a must-attend event for all motorcycle enthusiasts! \nTrack will have some FRESH CUT\, NEVER RACED trail and will be a BLAST. We know how much everyone loves racing our infamous ‘Down By The River’ race\, so we’re striving to get you a fun and flowy course at Burma instead! This event is for all guests (FRO Passholders and FRO Non-Passholders). \nGATE TIMES:\nFriday: 4pm to 9pm\nSaturday: 7am to 9pm\nSunday: 7am to 4pm \nGATE FEE:\nAdult – 18 years and older: $20\nTeen/Youth – 10 to 17 years old: $20\nChild – 4 to 9 years old: $10\nToddler/Infant – 3 years old and under: $0 (Free) \nGates Open For Camping: Friday\, August 22\, 2025 at 12:00 PM \nPurchase Event Gate Tickets – BMER 2025Purchase Event Gate Tickets: https://froevents.com/product/bmer2025
URL:https://readingoutdoors.com/event/bmer2025
LOCATION:FRO Burma Trails Parking\, St Clair\, PA\, 17965\, United States
CATEGORIES:Events,FRO Events
ATTACH;FMTTYPE=image/jpeg:https://readingoutdoors.com/wp-content/uploads/2025/08/BMER-BackMountainEnduroRiders-Aug22to24-EventFlyer-web.jpg
ORGANIZER;CN="Famous Reading Outdoors":MAILTO:adventures@readingoutdoors.com
GEO:40.7283274;-76.1785403
END:VEVENT
BEGIN:VEVENT
DTSTART;VALUE=DATE:20250516
DTEND;VALUE=DATE:20250519
DTSTAMP:20260421T023944
CREATED:20250221T154947Z
LAST-MODIFIED:20250805T190629Z
UID:10000774-1747353600-1747612799@readingoutdoors.com
SUMMARY:Battle at Burma - Endurance Challenge
DESCRIPTION:Prepare for an action-packed weekend at the Battle at Burma\, part of the National Off-Road Endurance Series (NORES)! This high-intensity endurance challenge will push drivers and machines to the limit on the challenging terrain of the Burma Trail System. \n Kick off the weekend with a Pre-Race SXS Show & Live Music at Coal Creek Commerce Center on Friday night! \nBrought to you by NORES\, this event is a must for off-road racing enthusiasts! \n Stay tuned for more details on registration\, schedules\, and event activities! \nPurchase Tickets – BATTLE AT BURMA Passholders/NonPassholdersPurchase Event Tickets: https://froevents.com/product-category/battle-at-burma/
URL:https://readingoutdoors.com/event/2025-battle-at-burma-endurance
LOCATION:FRO Burma Trails Parking\, St Clair\, PA\, 17965\, United States
CATEGORIES:Events,FRO Events
ATTACH;FMTTYPE=image/jpeg:https://readingoutdoors.com/wp-content/uploads/2025/02/Battle-at-Burma-2025.jpg
ORGANIZER;CN="Famous Reading Outdoors":MAILTO:adventures@readingoutdoors.com
GEO:40.7283274;-76.1785403
END:VEVENT
END:VCALENDAR