BEGIN:VCALENDAR
VERSION:2.0
PRODID:-//Reading Outdoors - ECPv6.15.17//NONSGML v1.0//EN
CALSCALE:GREGORIAN
METHOD:PUBLISH
X-ORIGINAL-URL:https://readingoutdoors.com
X-WR-CALDESC:Events for Reading Outdoors
REFRESH-INTERVAL;VALUE=DURATION:PT1H
X-Robots-Tag:noindex
X-PUBLISHED-TTL:PT1H
BEGIN:VTIMEZONE
TZID:America/New_York
BEGIN:DAYLIGHT
TZOFFSETFROM:-0500
TZOFFSETTO:-0400
TZNAME:EDT
DTSTART:20240310T070000
END:DAYLIGHT
BEGIN:STANDARD
TZOFFSETFROM:-0400
TZOFFSETTO:-0500
TZNAME:EST
DTSTART:20241103T060000
END:STANDARD
BEGIN:DAYLIGHT
TZOFFSETFROM:-0500
TZOFFSETTO:-0400
TZNAME:EDT
DTSTART:20250309T070000
END:DAYLIGHT
BEGIN:STANDARD
TZOFFSETFROM:-0400
TZOFFSETTO:-0500
TZNAME:EST
DTSTART:20251102T060000
END:STANDARD
BEGIN:DAYLIGHT
TZOFFSETFROM:-0500
TZOFFSETTO:-0400
TZNAME:EDT
DTSTART:20260308T070000
END:DAYLIGHT
BEGIN:STANDARD
TZOFFSETFROM:-0400
TZOFFSETTO:-0500
TZNAME:EST
DTSTART:20261101T060000
END:STANDARD
END:VTIMEZONE
BEGIN:VEVENT
DTSTART;VALUE=DATE:20250815
DTEND;VALUE=DATE:20250818
DTSTAMP:20260420T063659
CREATED:20250221T155240Z
LAST-MODIFIED:20250630T155959Z
UID:10000775-1755216000-1755475199@readingoutdoors.com
SUMMARY:🏁 2025 Yamaha Proven Off-Road Demo 🏁
DESCRIPTION:Get ready for an action-packed weekend at the 2025 Yamaha Proven Off-Road Demo! Experience the thrill of off-roading as you test-ride the Yamaha RMAX SXS and explore the rugged terrain like never before. \n Weekend Highlights: \n Yamaha RMAX SXS Test Rides – Get behind the wheel and experience the power firsthand!\n 3rd Annual Duck Hunt – Find the ducks along the trail and exchange them for awesome prizes!\n Weekend Camping – Stay the entire weekend and enjoy the great outdoors.\n Food & Refreshments – Grab a bite and fuel up for adventure.\n Live DJ & Entertainment – Keep the energy going with great music and good vibes! \nBrought to you by Yamaha Proven Off-Road & Famous Reading Outdoors\, this is a must-attend event for all off-road enthusiasts! \nPurchase Tickets – PassholdersPurchase Tickets – NonPassholdersSELECT FROM FRO Passholder Tickets OR FRO Non-Passholders Tickets. \nPurchase Event Tickets: https://froevents.com/product-category/yamaha-offroad
URL:https://readingoutdoors.com/event/2025-yamaha-proven-off-road-demo
LOCATION:FRO Darkwater Parking\, 1 East Darkwater Rd\, Pottsville\, PA\, 17901\, United States
CATEGORIES:Events,FRO Events
ATTACH;FMTTYPE=image/jpeg:https://readingoutdoors.com/wp-content/uploads/2025/02/Yamaha-Proven-Off-Road-Demo-2025.jpg
ORGANIZER;CN="Famous Reading Outdoors":MAILTO:adventures@readingoutdoors.com
GEO:40.725;-76.2187
X-APPLE-STRUCTURED-LOCATION;VALUE=URI;X-ADDRESS=FRO Darkwater Parking 1 East Darkwater Rd Pottsville PA 17901 United States;X-APPLE-RADIUS=500;X-TITLE=1 East Darkwater Rd:geo:-76.2187,40.725
END:VEVENT
END:VCALENDAR