BEGIN:VCALENDAR
VERSION:2.0
PRODID:-//Reading Outdoors - ECPv6.15.17//NONSGML v1.0//EN
CALSCALE:GREGORIAN
METHOD:PUBLISH
X-ORIGINAL-URL:https://readingoutdoors.com
X-WR-CALDESC:Events for Reading Outdoors
REFRESH-INTERVAL;VALUE=DURATION:PT1H
X-Robots-Tag:noindex
X-PUBLISHED-TTL:PT1H
BEGIN:VTIMEZONE
TZID:America/New_York
BEGIN:DAYLIGHT
TZOFFSETFROM:-0500
TZOFFSETTO:-0400
TZNAME:EDT
DTSTART:20250309T070000
END:DAYLIGHT
BEGIN:STANDARD
TZOFFSETFROM:-0400
TZOFFSETTO:-0500
TZNAME:EST
DTSTART:20251102T060000
END:STANDARD
BEGIN:DAYLIGHT
TZOFFSETFROM:-0500
TZOFFSETTO:-0400
TZNAME:EDT
DTSTART:20260308T070000
END:DAYLIGHT
BEGIN:STANDARD
TZOFFSETFROM:-0400
TZOFFSETTO:-0500
TZNAME:EST
DTSTART:20261101T060000
END:STANDARD
BEGIN:DAYLIGHT
TZOFFSETFROM:-0500
TZOFFSETTO:-0400
TZNAME:EDT
DTSTART:20270314T070000
END:DAYLIGHT
BEGIN:STANDARD
TZOFFSETFROM:-0400
TZOFFSETTO:-0500
TZNAME:EST
DTSTART:20271107T060000
END:STANDARD
END:VTIMEZONE
BEGIN:VEVENT
DTSTART;TZID=America/New_York:20260703T080000
DTEND;TZID=America/New_York:20260705T170000
DTSTAMP:20260421T023200
CREATED:20251228T234435Z
LAST-MODIFIED:20251230T194431Z
UID:10000805-1783065600-1783270800@readingoutdoors.com
SUMMARY:4th of July Camp & Ride
DESCRIPTION:Celebrate Fourth of July Weekend 2026 the FRO way — with camping\, riding\, and three days of off-road adventure at the Darkwater Trail System! Bring your crew\, pack your gear\, and enjoy a holiday weekend full of outdoor fun on trails open to all vehicle types. \nExperience the outdoors\, enjoy the holiday atmosphere\, and make memories to last all summer long. \nWeekend Highlights: \n\nHundreds of miles of marked trails to explore\nFamily-friendly camping environment\nOpen to all off-road vehicles\n\nGates Open at 8 AM \nKick off your holiday weekend on the trails at Famous Reading Outdoors! \nMore details coming soon — stay tuned!
URL:https://readingoutdoors.com/event/4th-of-july-camp-ride
LOCATION:FRO Darkwater Parking\, 1 East Darkwater Rd\, Pottsville\, PA\, 17901\, United States
CATEGORIES:Events,FRO Events
ATTACH;FMTTYPE=image/jpeg:https://readingoutdoors.com/wp-content/uploads/2025/12/FRO-2026-4th-of-July-Flyer.jpg
ORGANIZER;CN="Famous Reading Outdoors":MAILTO:adventures@readingoutdoors.com
GEO:40.725;-76.2187
X-APPLE-STRUCTURED-LOCATION;VALUE=URI;X-ADDRESS=FRO Darkwater Parking 1 East Darkwater Rd Pottsville PA 17901 United States;X-APPLE-RADIUS=500;X-TITLE=1 East Darkwater Rd:geo:-76.2187,40.725
END:VEVENT
BEGIN:VEVENT
DTSTART;TZID=America/New_York:20260704T080000
DTEND;TZID=America/New_York:20260705T170000
DTSTAMP:20260421T023200
CREATED:20260220T183023Z
LAST-MODIFIED:20260302T144703Z
UID:10000815-1783152000-1783270800@readingoutdoors.com
SUMMARY:FRO's Friends & Family Trial Day Passes
DESCRIPTION:Know someone who would love riding at Famous Reading Outdoors? Check out our Friends and Family trial passes and bring them along for the adventure. \nAs an FRO Member\, you now have the power to share the excitement of Darkwater Trails! With our Friends & Family Trial Passes\, invite your guest(s)  to join you on select first weekends of the month. You must be present with your guest during their adventure at FRO Darkwater Trails. \nGuest Rates – FRO Friends & Family\n\nWeekend Pass: $100 Driver only  | 12 years and older\nSingle Day (Sat or Sun): $60 Driver / $30 Passenger | 12 years and older\n\nHow It Works:\n1. Guest choose from trial pass options – Saturday\, Sunday or Weekend\n2. Guest enters their information\n3. Guest required to enter your FRO member’s name and barcode.\n4. Guests fill-out FRO digital waiver\n5. Guests check out\n6. Adventure Begins!!! \nDISCLAIMER: As the referring FRO member\, you may be held responsible for any actions taken by your guest that violate FRO rules\, which could result in consequences up to and including suspension or termination of your FRO membership. \nIncluded with your trial pass purchase\, you’ll receive an email from FRO after your trial pass has been completed with a voucher that gives you 48 hours to apply the cost of the trial pass toward an annual membership. \nFRO’s FRIEND & FAMILY TRIAL PASSES – CLICK HERE FOR ADVENTURE
URL:https://readingoutdoors.com/event/trial-day-passes/2026-07-04
LOCATION:FRO Darkwater Parking\, 1 East Darkwater Rd\, Pottsville\, PA\, 17901\, United States
CATEGORIES:Community Events,Events,FRO Events
ATTACH;FMTTYPE=image/jpeg:https://readingoutdoors.com/wp-content/uploads/2026/02/FROFriendsandFamily-TrialDayPasses.jpg
ORGANIZER;CN="Famous Reading Outdoors":MAILTO:adventures@readingoutdoors.com
GEO:40.725;-76.2187
X-APPLE-STRUCTURED-LOCATION;VALUE=URI;X-ADDRESS=FRO Darkwater Parking 1 East Darkwater Rd Pottsville PA 17901 United States;X-APPLE-RADIUS=500;X-TITLE=1 East Darkwater Rd:geo:-76.2187,40.725
END:VEVENT
BEGIN:VEVENT
DTSTART;VALUE=DATE:20260717
DTEND;VALUE=DATE:20260720
DTSTAMP:20260421T023200
CREATED:20251230T165705Z
LAST-MODIFIED:20251230T195343Z
UID:10000806-1784246400-1784505599@readingoutdoors.com
SUMMARY:World’s Toughest 12 Hour - #SXS12HOUR
DESCRIPTION:The World’s Toughest 24 Hour – SXS 24-Hour Endurance Challenge.\nInvite Only. Limited Entries. No Quit. \nThe World’s Toughest 24 Hour is an elite off-road endurance challenge designed for those ready to push beyond physical\, mental\, and mechanical limits. Hosted at the legendary Darkwater Trail System at Famous Reading Outdoors\, this 24-hour continuous endurance challenge runs day to night and back again — demanding strategy\, resilience\, and preparation at every turn. \nThis is not an open entry event. Participation is limited\, selective\, and earned. \nA Proven Endurance Battlefield \nDarkwater is known for its coal-country terrain and relentless trail network\, featuring: \n\nSteep climbs and elevation changes\nRock shelves and technical trail sections\nMud\, woods\, and constantly evolving conditions\n\nIt’s the perfect setting for a true endurance challenge where preparation matters as much as performance. \nThe Ultimate 24-Hour Endurance Test \n\nContinuous 24-hour operation — no breaks\, no resets\nDaylight and nighttime driving requiring full lighting and night-ops readiness\nStrategic pit stops for fuel\, maintenance\, and driver changes\nEndurance over speed — consistency and reliability win\n\nLimited 4×4 Entries Available\nA small number of 4×4 vehicles will be accepted to further diversify the endurance field. \nClasses & Entry Limits \nTotal Entries: 75 (All Vehicles)\nThis is a strictly limited\, invite-only event. If all spots are filled\, public registration will not open. \nSXS / UTV Classes \n\nPro\nSportsman\nAmateur\nNovice\n\nFull Event Weekend Experience \n\nOn-site camping for participants and crews\nDedicated pit and support areas\nVendor displays\, food trucks\, and on-site services\nMandatory pre-event briefings and operations meetings\nSpectator viewing in designated areas\n\nInvite-Only Entry & Waiting List \nThis endurance challenge is invite only and capped at 75 total entries. \nIf spots are not fully claimed\, remaining entries may open to the public at a later date. \nWant to be considered? \nEmail brian@onenationracing.com to be added to the waiting list or to request invite consideration. \nView SxS 12 Hour Schedule of Events. – https://noreseries.com
URL:https://readingoutdoors.com/event/2026-worlds-toughest-sxs12hour
LOCATION:FRO Darkwater Parking\, 1 East Darkwater Rd\, Pottsville\, PA\, 17901\, United States
CATEGORIES:Events,FRO Events
ATTACH;FMTTYPE=image/jpeg:https://readingoutdoors.com/wp-content/uploads/2025/12/FRO-2026-SXS-24Hour-Flyer.jpg
ORGANIZER;CN="Famous Reading Outdoors":MAILTO:adventures@readingoutdoors.com
GEO:40.725;-76.2187
X-APPLE-STRUCTURED-LOCATION;VALUE=URI;X-ADDRESS=FRO Darkwater Parking 1 East Darkwater Rd Pottsville PA 17901 United States;X-APPLE-RADIUS=500;X-TITLE=1 East Darkwater Rd:geo:-76.2187,40.725
END:VEVENT
END:VCALENDAR