BEGIN:VCALENDAR
VERSION:2.0
PRODID:-//Reading Outdoors - ECPv6.15.17//NONSGML v1.0//EN
CALSCALE:GREGORIAN
METHOD:PUBLISH
X-WR-CALNAME:Reading Outdoors
X-ORIGINAL-URL:https://readingoutdoors.com
X-WR-CALDESC:Events for Reading Outdoors
REFRESH-INTERVAL;VALUE=DURATION:PT1H
X-Robots-Tag:noindex
X-PUBLISHED-TTL:PT1H
BEGIN:VTIMEZONE
TZID:America/New_York
BEGIN:DAYLIGHT
TZOFFSETFROM:-0500
TZOFFSETTO:-0400
TZNAME:EDT
DTSTART:20240310T070000
END:DAYLIGHT
BEGIN:STANDARD
TZOFFSETFROM:-0400
TZOFFSETTO:-0500
TZNAME:EST
DTSTART:20241103T060000
END:STANDARD
BEGIN:DAYLIGHT
TZOFFSETFROM:-0500
TZOFFSETTO:-0400
TZNAME:EDT
DTSTART:20250309T070000
END:DAYLIGHT
BEGIN:STANDARD
TZOFFSETFROM:-0400
TZOFFSETTO:-0500
TZNAME:EST
DTSTART:20251102T060000
END:STANDARD
BEGIN:DAYLIGHT
TZOFFSETFROM:-0500
TZOFFSETTO:-0400
TZNAME:EDT
DTSTART:20260308T070000
END:DAYLIGHT
BEGIN:STANDARD
TZOFFSETFROM:-0400
TZOFFSETTO:-0500
TZNAME:EST
DTSTART:20261101T060000
END:STANDARD
END:VTIMEZONE
BEGIN:VEVENT
DTSTART;TZID=America/New_York:20250607T080000
DTEND;TZID=America/New_York:20250607T160000
DTSTAMP:20260421T113044
CREATED:20250306T204026Z
LAST-MODIFIED:20250805T190651Z
UID:10000779-1749283200-1749312000@readingoutdoors.com
SUMMARY:FRO ATV RUN
DESCRIPTION:Fire up your ATVs\,UTVs\, and Bikes! 🔥🏍️ Join us for the FRO ATV RUN on June 7\, 2025\, from 8 AM to 4 PM! 💨 This is a great opportunity to explore the northern trails of Famous Reading Outdoors and bring your friends who want to experience the park for the first time! 🤩👥 \n📍 Location: Locust Gap & Ashland Trails\n🔄 30-Mile Loop of exciting terrain to explore! \n💰 Cost:\n✅ $20 for FRO Passholders\n❌ $30 for Non-Passholders (Perfect chance for new riders to check out the park!) \n🔥 Proceeds will benefit the Washington Fire Company #1 Equipment Fund 🔥 \n🎟️📢 Don’t miss this awesome ride for a great cause! Grab your crew and hit the trails! 🏕️💥 \nPurchase Tickets – FRO ATV Run Passholders & NonPassholdersPurchase Event Tickets: https://froevents.com/product/fro-atv-run/
URL:https://readingoutdoors.com/event/fro-atv-run
LOCATION:FRO Ashland Trails
CATEGORIES:Community Events,Events,FRO Events
ATTACH;FMTTYPE=image/jpeg:https://readingoutdoors.com/wp-content/uploads/2025/03/FRO-ATV-Run-2025.jpg
ORGANIZER;CN="Famous Reading Outdoors":MAILTO:adventures@readingoutdoors.com
END:VEVENT
BEGIN:VEVENT
DTSTART;TZID=America/New_York:20250531T080000
DTEND;TZID=America/New_York:20250531T133000
DTSTAMP:20260421T113044
CREATED:20250528T151819Z
LAST-MODIFIED:20250528T152833Z
UID:10000782-1748678400-1748698200@readingoutdoors.com
SUMMARY:FRO Trail Revival Project | onX Offroad + Toyota
DESCRIPTION:Volunteer Trail Cleanup Event: Famous Reading Outdoors\, PA\nonX Offroad and Toyota are partnering with Famous Reading Outdoors OHV Park to bring the Trail Revival Project to Pennsylvania\, where we’re calling for volunteers to help keep trails pristine and open. Sign-up below and come ready to clear trails of overgrown brush\, limbs\, trash\, and more while connecting with fellow off-roaders in your area. Participants at the clean up event will receive a year free onX Offroad Elite Membership. \n\nRegister for Clean Up!!!\nhttps://www.onxmaps.com/onx-access-initiatives/toyota-onx-offroad-trail-revival-project/famous-reading-outdoors#register\n\n\n\n🔥Win a Chainsaw! Not only will you feel good keeping trails clear\, but one in every ten attendees will take home a brand-new chainsaw from each Trail Revival Project!\n\nSee the event details above and register to join – click here.  Be sure to download the event folder and save it to your onX Offroad App to access the trail map and meetup spots. Trail restoration tasks will be given upon arrival. \n\n\n\n\nDate: May 31\, 2025\nMeeting Time: 8:00 am\nClean-Up Time: 9:30 am – 1:30pm\nMeeting Location: Darkwater Trails Parking\, Famous Reading Outdoors\nMax Capacity: 30 volunteers (Sign up before spots fill!)\nFood: Late lunch will be provided for all attendees\nTo Bring: Gloves\, handsaw\, hedge trimmers\, loppers\, water + snacks \n\n\n\n\nREGISTER FOR CLEAN-UP
URL:https://readingoutdoors.com/event/trail-revival-project
LOCATION:FRO Darkwater Parking\, 1 East Darkwater Rd\, Pottsville\, PA\, 17901\, United States
CATEGORIES:Community Events,Events,FRO Events
ATTACH;FMTTYPE=image/jpeg:https://readingoutdoors.com/wp-content/uploads/2025/05/FRO-TrailRevivalProject-May31st-event.jpg
ORGANIZER;CN="Famous Reading Outdoors":MAILTO:adventures@readingoutdoors.com
GEO:40.725;-76.2187
X-APPLE-STRUCTURED-LOCATION;VALUE=URI;X-ADDRESS=FRO Darkwater Parking 1 East Darkwater Rd Pottsville PA 17901 United States;X-APPLE-RADIUS=500;X-TITLE=1 East Darkwater Rd:geo:-76.2187,40.725
END:VEVENT
BEGIN:VEVENT
DTSTART;TZID=America/New_York:20250523T080000
DTEND;TZID=America/New_York:20250526T170000
DTSTAMP:20260421T113044
CREATED:20250321T184435Z
LAST-MODIFIED:20250805T190642Z
UID:10000780-1747987200-1748278800@readingoutdoors.com
SUMMARY:FRO Memorial Camp & Ride
DESCRIPTION:📅 Friday\, May 23 – Monday\, May 26\, 2025\n📍 Darkwater Trail System\n⏰ Gates Open at 8 AM \nJoin us for an epic Memorial Day Weekend at Famous Reading Outdoors! Enjoy camping\, riding\, and off-road adventure at the Darkwater Trail System—open to all vehicle types! Don’t miss out on this opportunity to explore the trails\, enjoy the outdoors\, and make lasting memories. \nPricing:\n✅ Pass-Holder Overnight Stay (per person for entire weekend – optional): $20\n✅ Non-Passholder Camping (per person for entire weekend – optional): $50\n➕ 4-Day Riding Pass (REQUIRED for all non-passholder drivers\, passengers or minors): $100\n(Pass-Holder riding is included with your yearly membership)\nCamping is limited to 600 people. \nGates Open: Friday\, May 23rd\, 2025 at 8:00 AM \n🌲 Weekend Highlights:\n✔️ Miles of scenic trails\n✔️ Family-friendly camping\n✔️ Open to all off-road vehicles\nPack up\, gear up\, and let’s ride!  \nSELECT FROM FRO Passholder Tickets OR FRO Non-Passholders Tickets. \nPurchase Tickets – PassholdersPurchase Tickets – NonPassholdersPurchase Event Tickets: https://froevents.com/product-category/memorial-camp-and-ride/
URL:https://readingoutdoors.com/event/memorial-camp-ride
LOCATION:FRO Darkwater Parking\, 1 East Darkwater Rd\, Pottsville\, PA\, 17901\, United States
CATEGORIES:Events,FRO Events
ATTACH;FMTTYPE=image/jpeg:https://readingoutdoors.com/wp-content/uploads/2025/03/FROCampandRide2025-MemorialWeekend-flyer.jpg
ORGANIZER;CN="Famous Reading Outdoors":MAILTO:adventures@readingoutdoors.com
GEO:40.725;-76.2187
X-APPLE-STRUCTURED-LOCATION;VALUE=URI;X-ADDRESS=FRO Darkwater Parking 1 East Darkwater Rd Pottsville PA 17901 United States;X-APPLE-RADIUS=500;X-TITLE=1 East Darkwater Rd:geo:-76.2187,40.725
END:VEVENT
BEGIN:VEVENT
DTSTART;VALUE=DATE:20250516
DTEND;VALUE=DATE:20250519
DTSTAMP:20260421T113044
CREATED:20250221T154947Z
LAST-MODIFIED:20250805T190629Z
UID:10000774-1747353600-1747612799@readingoutdoors.com
SUMMARY:Battle at Burma - Endurance Challenge
DESCRIPTION:Prepare for an action-packed weekend at the Battle at Burma\, part of the National Off-Road Endurance Series (NORES)! This high-intensity endurance challenge will push drivers and machines to the limit on the challenging terrain of the Burma Trail System. \n Kick off the weekend with a Pre-Race SXS Show & Live Music at Coal Creek Commerce Center on Friday night! \nBrought to you by NORES\, this event is a must for off-road racing enthusiasts! \n Stay tuned for more details on registration\, schedules\, and event activities! \nPurchase Tickets – BATTLE AT BURMA Passholders/NonPassholdersPurchase Event Tickets: https://froevents.com/product-category/battle-at-burma/
URL:https://readingoutdoors.com/event/2025-battle-at-burma-endurance
LOCATION:FRO Burma Trails Parking\, St Clair\, PA\, 17965\, United States
CATEGORIES:Events,FRO Events
ATTACH;FMTTYPE=image/jpeg:https://readingoutdoors.com/wp-content/uploads/2025/02/Battle-at-Burma-2025.jpg
ORGANIZER;CN="Famous Reading Outdoors":MAILTO:adventures@readingoutdoors.com
GEO:40.7283274;-76.1785403
END:VEVENT
BEGIN:VEVENT
DTSTART;VALUE=DATE:20250516
DTEND;VALUE=DATE:20250517
DTSTAMP:20260421T113045
CREATED:20250221T154517Z
LAST-MODIFIED:20250805T190622Z
UID:10000773-1747353600-1747439999@readingoutdoors.com
SUMMARY:Battle at Burma - Pre-Event Party!
DESCRIPTION:Get ready to kick off Battle at Burma weekend with an epic Pre-Event Party! Join fellow racers\, fans\, and off-road enthusiasts for a night of great food\, live music\, and high-energy excitement. \n Live Music from The Zenith\n Meet & Greet with Racers\n Delicious Food & Refreshments Available\nFREE to Attend! \nPresented by NORES (National Off-Road Endurance Series)\, this event sets the stage for an adrenaline-packed weekend of racing action! \n Don’t miss out—come celebrate with us before the big event! \nBATTLE AT BURMA Endurance for Passholders/NonPassholdersPurchase Event Tickets for Battle at Burma Endurance Series Event\nhttps://froevents.com/product/battleburma/
URL:https://readingoutdoors.com/event/2025-battle-at-burma-pre-event-party
LOCATION:Vito’s Coal Fired Pizza\, Coal Creek Commerce Center\, 400 Terry Rich Blvd Suite 5\, St Clair\, PA\, 17970
CATEGORIES:Community Events,Events,FRO Events
ATTACH;FMTTYPE=image/jpeg:https://readingoutdoors.com/wp-content/uploads/2025/02/BB-Pre-Event-Party-2025.jpg
ORGANIZER;CN="Famous Reading Outdoors":MAILTO:adventures@readingoutdoors.com
END:VEVENT
END:VCALENDAR