BEGIN:VCALENDAR
VERSION:2.0
PRODID:-//Reading Outdoors - ECPv6.15.17//NONSGML v1.0//EN
CALSCALE:GREGORIAN
METHOD:PUBLISH
X-ORIGINAL-URL:https://readingoutdoors.com
X-WR-CALDESC:Events for Reading Outdoors
REFRESH-INTERVAL;VALUE=DURATION:PT1H
X-Robots-Tag:noindex
X-PUBLISHED-TTL:PT1H
BEGIN:VTIMEZONE
TZID:America/New_York
BEGIN:DAYLIGHT
TZOFFSETFROM:-0500
TZOFFSETTO:-0400
TZNAME:EDT
DTSTART:20240310T070000
END:DAYLIGHT
BEGIN:STANDARD
TZOFFSETFROM:-0400
TZOFFSETTO:-0500
TZNAME:EST
DTSTART:20241103T060000
END:STANDARD
BEGIN:DAYLIGHT
TZOFFSETFROM:-0500
TZOFFSETTO:-0400
TZNAME:EDT
DTSTART:20250309T070000
END:DAYLIGHT
BEGIN:STANDARD
TZOFFSETFROM:-0400
TZOFFSETTO:-0500
TZNAME:EST
DTSTART:20251102T060000
END:STANDARD
BEGIN:DAYLIGHT
TZOFFSETFROM:-0500
TZOFFSETTO:-0400
TZNAME:EDT
DTSTART:20260308T070000
END:DAYLIGHT
BEGIN:STANDARD
TZOFFSETFROM:-0400
TZOFFSETTO:-0500
TZNAME:EST
DTSTART:20261101T060000
END:STANDARD
END:VTIMEZONE
BEGIN:VEVENT
DTSTART;VALUE=DATE:20250725
DTEND;VALUE=DATE:20250728
DTSTAMP:20260423T182517
CREATED:20250221T155705Z
LAST-MODIFIED:20250805T190610Z
UID:10000776-1753401600-1753660799@readingoutdoors.com
SUMMARY:World’s Toughest 12 Hour - #SXS12HOUR
DESCRIPTION:Get ready for the ultimate off-road endurance challenge! The World’s Toughest 12 Hour is coming to the Darkwater Trail System\, pushing UTVs and drivers to their limits in this grueling test of skill\, endurance\, and strategy. \n Weekend Highlights**: \n Extreme Bingo\n Poker Run\n Youth & Adult Relays\n Weekend Camping Packages Available \n**Note: These activities are strictly for ‘Racers and Crew Members’ of the SXS 12 Hour event. \nPresented by NORES (National Off-Road Endurance Series)\, this is an event you won’t want to miss! Are you tough enough to take on the challenge? \nPurchase Gate Tickets – RACERS & CREWPurchase Gate Tickets – SPECTATORSSELECT FROM RACERS & CREW (Gate Tickets) or SPECTATORS (Gate Tickets). \nPurchase Event Tickets: https://froevents.com/product-category/sxs-12-hour \nView SxS 12 Hour Schedule of Events. – https://noreseries.com
URL:https://readingoutdoors.com/event/2025-worlds-toughest-sxs12hour
LOCATION:FRO Darkwater Parking\, 1 East Darkwater Rd\, Pottsville\, PA\, 17901\, United States
CATEGORIES:Events,FRO Events
ATTACH;FMTTYPE=image/jpeg:https://readingoutdoors.com/wp-content/uploads/2025/02/SXS-12-Hour-Worlds-Toughest-2025.jpg
ORGANIZER;CN="Famous Reading Outdoors":MAILTO:adventures@readingoutdoors.com
GEO:40.725;-76.2187
X-APPLE-STRUCTURED-LOCATION;VALUE=URI;X-ADDRESS=FRO Darkwater Parking 1 East Darkwater Rd Pottsville PA 17901 United States;X-APPLE-RADIUS=500;X-TITLE=1 East Darkwater Rd:geo:-76.2187,40.725
END:VEVENT
END:VCALENDAR