BEGIN:VCALENDAR
VERSION:2.0
PRODID:-//Reading Outdoors - ECPv6.15.17//NONSGML v1.0//EN
CALSCALE:GREGORIAN
METHOD:PUBLISH
X-ORIGINAL-URL:https://readingoutdoors.com
X-WR-CALDESC:Events for Reading Outdoors
REFRESH-INTERVAL;VALUE=DURATION:PT1H
X-Robots-Tag:noindex
X-PUBLISHED-TTL:PT1H
BEGIN:VTIMEZONE
TZID:America/New_York
BEGIN:DAYLIGHT
TZOFFSETFROM:-0500
TZOFFSETTO:-0400
TZNAME:EDT
DTSTART:20240310T070000
END:DAYLIGHT
BEGIN:STANDARD
TZOFFSETFROM:-0400
TZOFFSETTO:-0500
TZNAME:EST
DTSTART:20241103T060000
END:STANDARD
BEGIN:DAYLIGHT
TZOFFSETFROM:-0500
TZOFFSETTO:-0400
TZNAME:EDT
DTSTART:20250309T070000
END:DAYLIGHT
BEGIN:STANDARD
TZOFFSETFROM:-0400
TZOFFSETTO:-0500
TZNAME:EST
DTSTART:20251102T060000
END:STANDARD
BEGIN:DAYLIGHT
TZOFFSETFROM:-0500
TZOFFSETTO:-0400
TZNAME:EDT
DTSTART:20260308T070000
END:DAYLIGHT
BEGIN:STANDARD
TZOFFSETFROM:-0400
TZOFFSETTO:-0500
TZNAME:EST
DTSTART:20261101T060000
END:STANDARD
END:VTIMEZONE
BEGIN:VEVENT
DTSTART;TZID=America/New_York:20250523T080000
DTEND;TZID=America/New_York:20250526T170000
DTSTAMP:20260424T005050
CREATED:20250321T184435Z
LAST-MODIFIED:20250805T190642Z
UID:10000780-1747987200-1748278800@readingoutdoors.com
SUMMARY:FRO Memorial Camp & Ride
DESCRIPTION:📅 Friday\, May 23 – Monday\, May 26\, 2025\n📍 Darkwater Trail System\n⏰ Gates Open at 8 AM \nJoin us for an epic Memorial Day Weekend at Famous Reading Outdoors! Enjoy camping\, riding\, and off-road adventure at the Darkwater Trail System—open to all vehicle types! Don’t miss out on this opportunity to explore the trails\, enjoy the outdoors\, and make lasting memories. \nPricing:\n✅ Pass-Holder Overnight Stay (per person for entire weekend – optional): $20\n✅ Non-Passholder Camping (per person for entire weekend – optional): $50\n➕ 4-Day Riding Pass (REQUIRED for all non-passholder drivers\, passengers or minors): $100\n(Pass-Holder riding is included with your yearly membership)\nCamping is limited to 600 people. \nGates Open: Friday\, May 23rd\, 2025 at 8:00 AM \n🌲 Weekend Highlights:\n✔️ Miles of scenic trails\n✔️ Family-friendly camping\n✔️ Open to all off-road vehicles\nPack up\, gear up\, and let’s ride!  \nSELECT FROM FRO Passholder Tickets OR FRO Non-Passholders Tickets. \nPurchase Tickets – PassholdersPurchase Tickets – NonPassholdersPurchase Event Tickets: https://froevents.com/product-category/memorial-camp-and-ride/
URL:https://readingoutdoors.com/event/memorial-camp-ride
LOCATION:FRO Darkwater Parking\, 1 East Darkwater Rd\, Pottsville\, PA\, 17901\, United States
CATEGORIES:Events,FRO Events
ATTACH;FMTTYPE=image/jpeg:https://readingoutdoors.com/wp-content/uploads/2025/03/FROCampandRide2025-MemorialWeekend-flyer.jpg
ORGANIZER;CN="Famous Reading Outdoors":MAILTO:adventures@readingoutdoors.com
GEO:40.725;-76.2187
X-APPLE-STRUCTURED-LOCATION;VALUE=URI;X-ADDRESS=FRO Darkwater Parking 1 East Darkwater Rd Pottsville PA 17901 United States;X-APPLE-RADIUS=500;X-TITLE=1 East Darkwater Rd:geo:-76.2187,40.725
END:VEVENT
END:VCALENDAR