BEGIN:VCALENDAR
VERSION:2.0
PRODID:-//Reading Outdoors - ECPv6.15.17//NONSGML v1.0//EN
CALSCALE:GREGORIAN
METHOD:PUBLISH
X-WR-CALNAME:Reading Outdoors
X-ORIGINAL-URL:https://readingoutdoors.com
X-WR-CALDESC:Events for Reading Outdoors
REFRESH-INTERVAL;VALUE=DURATION:PT1H
X-Robots-Tag:noindex
X-PUBLISHED-TTL:PT1H
BEGIN:VTIMEZONE
TZID:America/New_York
BEGIN:DAYLIGHT
TZOFFSETFROM:-0500
TZOFFSETTO:-0400
TZNAME:EDT
DTSTART:20250309T070000
END:DAYLIGHT
BEGIN:STANDARD
TZOFFSETFROM:-0400
TZOFFSETTO:-0500
TZNAME:EST
DTSTART:20251102T060000
END:STANDARD
BEGIN:DAYLIGHT
TZOFFSETFROM:-0500
TZOFFSETTO:-0400
TZNAME:EDT
DTSTART:20260308T070000
END:DAYLIGHT
BEGIN:STANDARD
TZOFFSETFROM:-0400
TZOFFSETTO:-0500
TZNAME:EST
DTSTART:20261101T060000
END:STANDARD
BEGIN:DAYLIGHT
TZOFFSETFROM:-0500
TZOFFSETTO:-0400
TZNAME:EDT
DTSTART:20270314T070000
END:DAYLIGHT
BEGIN:STANDARD
TZOFFSETFROM:-0400
TZOFFSETTO:-0500
TZNAME:EST
DTSTART:20271107T060000
END:STANDARD
END:VTIMEZONE
BEGIN:VEVENT
DTSTART;TZID=America/New_York:20260530T090000
DTEND;TZID=America/New_York:20260531T170000
DTSTAMP:20260420T230330
CREATED:20260319T161142Z
LAST-MODIFIED:20260401T145202Z
UID:10000818-1780131600-1780246800@readingoutdoors.com
SUMMARY:Burma/Connector Day Pass Weekend
DESCRIPTION:Spend the weekend riding one of Pennsylvania’s most exciting off-road destinations at the Burma Trail System. On Saturday\, May 30th and Sunday\, May 31st\, 2026\, Famous Reading Outdoors will be offering Day Pass riding opportunities for riders looking to explore the rugged terrain\, scenic overlooks\, and challenging trails that make Burma a favorite among off-road enthusiasts. \nFrom rocky climbs and wooded trails to scenic viewpoints like Top of the World\, the Burma Trail System offers a full day of adventure for riders of all experience levels.\nBurma Trailhead Details \n Burma Trail System Times: \n\nGates open at 7:00 AM\nTrail riding begins at 9:00 AM\nTrails close at 5:00 PM\n\n Day Pass Pricing (Saturday OR Sunday) – Burma Trail System \n\nFRO Members: FREE\nFRO Non-Members: $40 per driver | $20 per passenger\n* Day Pass access applies to FRO-managed trails and facilities within the Burma Trail System.\n\n Weekend Pass Pricing – Burma Trail System \n\nFRO Members: FREE\nFRO Non-Members: $75 per driver | $35 per passenger\n* Day Pass access applies to FRO-managed trails and facilities within the Burma Trail System.\n\nRider/Passenger Requirements – All Must: \n\nComplete required waivers\nFollow FRO trail rules and operating guidelines\nUse proper safety equipment\nRide responsibly and respectfully at all times while on FRO property\n\nPurchase Burma Connector Day Pass Weekend | May 30-31\, 2026Purchase at https://froevents.com/burma-connector/
URL:https://readingoutdoors.com/event/burma-connector
LOCATION:FRO Burma Trails Parking\, St Clair\, PA\, 17965\, United States
CATEGORIES:Events,FRO Events
ATTACH;FMTTYPE=image/webp:https://readingoutdoors.com/wp-content/uploads/2026/03/FRO-BurmaConnector-DayPassWeekend-Flyer.webp
ORGANIZER;CN="Famous Reading Outdoors":MAILTO:adventures@readingoutdoors.com
GEO:40.7283274;-76.1785403
END:VEVENT
END:VCALENDAR